BEGIN:VCALENDAR
VERSION:2.0
PRODID:-//Redeemed Church of Jesus Christ - ECPv6.15.11//NONSGML v1.0//EN
CALSCALE:GREGORIAN
METHOD:PUBLISH
X-WR-CALNAME:Redeemed Church of Jesus Christ
X-ORIGINAL-URL:https://theredeemedchurch.org
X-WR-CALDESC:Events for Redeemed Church of Jesus Christ
REFRESH-INTERVAL;VALUE=DURATION:PT1H
X-Robots-Tag:noindex
X-PUBLISHED-TTL:PT1H
BEGIN:VTIMEZONE
TZID:UTC
BEGIN:STANDARD
TZOFFSETFROM:+0000
TZOFFSETTO:+0000
TZNAME:UTC
DTSTART:20220101T000000
END:STANDARD
END:VTIMEZONE
BEGIN:VEVENT
DTSTART;TZID=UTC:20231021T080000
DTEND;TZID=UTC:20231021T170000
DTSTAMP:20260423T161430
CREATED:20231012T233707Z
LAST-MODIFIED:20231012T233724Z
UID:442-1697875200-1697907600@theredeemedchurch.org
SUMMARY:Community Winter Clothing Drive
DESCRIPTION:We are excited to announce that we will be hosting a community clothing drive. We are asking for new or gently used clothing for men\, women\, teens and children. The donated clothing should be free of stains\, holes and not faded.  We are asking that all donations be washed prior to distribution.\n\nIf you are able to lend a helping hand to assist with  arrangement and display of the donations or if you would like to help out with distribution and able to do both please text the church line at 914-370-2020.\n\nThank you for your support.
URL:https://theredeemedchurch.org/event/community-winter-clothing-drive/
END:VEVENT
BEGIN:VEVENT
DTSTART;TZID=UTC:20231020T190000
DTEND;TZID=UTC:20231020T193000
DTSTAMP:20260423T161430
CREATED:20231012T232041Z
LAST-MODIFIED:20231012T232041Z
UID:440-1697828400-1697830200@theredeemedchurch.org
SUMMARY:Consecration Corporate Prayer (ZOOM)
DESCRIPTION:
URL:https://theredeemedchurch.org/event/consecration-corporate-prayer-zoom-5/
END:VEVENT
BEGIN:VEVENT
DTSTART;TZID=UTC:20231019T190000
DTEND;TZID=UTC:20231019T193000
DTSTAMP:20260423T161430
CREATED:20231012T232013Z
LAST-MODIFIED:20231012T232013Z
UID:438-1697742000-1697743800@theredeemedchurch.org
SUMMARY:Consecration Corporate Prayer (ZOOM)
DESCRIPTION:
URL:https://theredeemedchurch.org/event/consecration-corporate-prayer-zoom-4/
END:VEVENT
BEGIN:VEVENT
DTSTART;TZID=UTC:20231018T190000
DTEND;TZID=UTC:20231018T193000
DTSTAMP:20260423T161430
CREATED:20231012T231927Z
LAST-MODIFIED:20231012T231927Z
UID:436-1697655600-1697657400@theredeemedchurch.org
SUMMARY:Consecration Corporate Prayer (ZOOM)
DESCRIPTION:
URL:https://theredeemedchurch.org/event/consecration-corporate-prayer-zoom-3/
END:VEVENT
BEGIN:VEVENT
DTSTART;TZID=UTC:20231017T190000
DTEND;TZID=UTC:20231017T193000
DTSTAMP:20260423T161430
CREATED:20231012T231848Z
LAST-MODIFIED:20231012T231848Z
UID:434-1697569200-1697571000@theredeemedchurch.org
SUMMARY:Consecration Corporate Prayer (ZOOM)
DESCRIPTION:
URL:https://theredeemedchurch.org/event/consecration-corporate-prayer-zoom-2/
END:VEVENT
BEGIN:VEVENT
DTSTART;TZID=UTC:20231016T190000
DTEND;TZID=UTC:20231016T193000
DTSTAMP:20260423T161430
CREATED:20231012T231804Z
LAST-MODIFIED:20231012T231804Z
UID:432-1697482800-1697484600@theredeemedchurch.org
SUMMARY:Consecration Corporate Prayer (ZOOM)
DESCRIPTION:
URL:https://theredeemedchurch.org/event/consecration-corporate-prayer-zoom/
END:VEVENT
BEGIN:VEVENT
DTSTART;TZID=UTC:20231101T190000
DTEND;TZID=UTC:20231101T190000
DTSTAMP:20260423T161430
CREATED:20231101T133435Z
LAST-MODIFIED:20231102T225815Z
UID:398-1698865200-1698865200@theredeemedchurch.org
SUMMARY:Wednesday Night Bible Class (Virtual)
DESCRIPTION:Remove any distractions. Prepare your ears to hear and your heart to receive God’s word this evening. \nJoin us on ZOOM\, YouTube or Facebook \nDial in number: (929)-205-6099 Meeting ID: 757 928 1635 Password: 124889
URL:https://theredeemedchurch.org/event/wednesday-night-bible-class-virtual-5/
END:VEVENT
BEGIN:VEVENT
DTSTART;TZID=UTC:20230927T190000
DTEND;TZID=UTC:20230927T200000
DTSTAMP:20260423T161430
CREATED:20230830T235703Z
LAST-MODIFIED:20230830T235703Z
UID:373-1695841200-1695844800@theredeemedchurch.org
SUMMARY:Wednesday Night Bible Class (Virtual)
DESCRIPTION:
URL:https://theredeemedchurch.org/event/wednesday-night-bible-class-virtual-4/
END:VEVENT
BEGIN:VEVENT
DTSTART;TZID=UTC:20230924T083000
DTEND;TZID=UTC:20230924T100000
DTSTAMP:20260423T161430
CREATED:20230830T234452Z
LAST-MODIFIED:20230830T234527Z
UID:365-1695544200-1695549600@theredeemedchurch.org
SUMMARY:Sunday Morning Worship Service
DESCRIPTION:
URL:https://theredeemedchurch.org/event/sunday-morning-worship-service-3/
END:VEVENT
BEGIN:VEVENT
DTSTART;TZID=UTC:20230923T083000
DTEND;TZID=UTC:20230923T120000
DTSTAMP:20260423T161430
CREATED:20230903T162739Z
LAST-MODIFIED:20230903T162739Z
UID:393-1695457800-1695470400@theredeemedchurch.org
SUMMARY:Community Outreach Event
DESCRIPTION:If you are interested please contact us at 914-370-2020
URL:https://theredeemedchurch.org/event/community-outreach-event/
END:VEVENT
BEGIN:VEVENT
DTSTART;TZID=UTC:20230917T083000
DTEND;TZID=UTC:20230917T100000
DTSTAMP:20260423T161430
CREATED:20230830T234425Z
LAST-MODIFIED:20230830T234544Z
UID:363-1694939400-1694944800@theredeemedchurch.org
SUMMARY:Sunday Morning Worship Service
DESCRIPTION:
URL:https://theredeemedchurch.org/event/sunday-morning-worship-service-2/
END:VEVENT
BEGIN:VEVENT
DTSTART;TZID=UTC:20230916T114500
DTEND;TZID=UTC:20230916T160000
DTSTAMP:20260423T161430
CREATED:20230831T000157Z
LAST-MODIFIED:20230831T000157Z
UID:377-1694864700-1694880000@theredeemedchurch.org
SUMMARY:Fellowship Luncheon - A Time to Remember
DESCRIPTION:
URL:https://theredeemedchurch.org/event/fellowship-luncheon-a-time-to-remember/
END:VEVENT
BEGIN:VEVENT
DTSTART;TZID=UTC:20230913T190000
DTEND;TZID=UTC:20230913T200000
DTSTAMP:20260423T161430
CREATED:20230830T235049Z
LAST-MODIFIED:20230830T235049Z
UID:369-1694631600-1694635200@theredeemedchurch.org
SUMMARY:Wednesday Night Bible Class (Virtual)
DESCRIPTION:
URL:https://theredeemedchurch.org/event/wednesday-night-bible-class-virtual-2/
END:VEVENT
BEGIN:VEVENT
DTSTART;TZID=UTC:20230910T083000
DTEND;TZID=UTC:20230910T100000
DTSTAMP:20260423T161430
CREATED:20230830T234350Z
LAST-MODIFIED:20230830T234810Z
UID:361-1694334600-1694340000@theredeemedchurch.org
SUMMARY:Sunday Morning Worship Service
DESCRIPTION:
URL:https://theredeemedchurch.org/event/sunday-morning-worship-service/
END:VEVENT
BEGIN:VEVENT
DTSTART;TZID=UTC:20230909T083000
DTEND;TZID=UTC:20230909T093000
DTSTAMP:20260423T161430
CREATED:20230830T235754Z
LAST-MODIFIED:20230830T235754Z
UID:375-1694248200-1694251800@theredeemedchurch.org
SUMMARY:Saturday Morning Prayer in the Sanctuary
DESCRIPTION:
URL:https://theredeemedchurch.org/event/saturday-morning-prayer-in-the-sanctuary/
END:VEVENT
BEGIN:VEVENT
DTSTART;TZID=UTC:20230906T190000
DTEND;TZID=UTC:20230906T200000
DTSTAMP:20260423T161430
CREATED:20230830T235006Z
LAST-MODIFIED:20230830T235006Z
UID:367-1694026800-1694030400@theredeemedchurch.org
SUMMARY:Wednesday Night Bible Class (Virtual)
DESCRIPTION:
URL:https://theredeemedchurch.org/event/wednesday-night-bible-class-virtual/
END:VEVENT
BEGIN:VEVENT
DTSTART;TZID=UTC:20230903T083000
DTEND;TZID=UTC:20230903T100000
DTSTAMP:20260423T161430
CREATED:20230623T010235Z
LAST-MODIFIED:20230830T234234Z
UID:292-1693729800-1693735200@theredeemedchurch.org
SUMMARY:Sunday Morning Worship & Communion
DESCRIPTION:
URL:https://theredeemedchurch.org/event/communion-sunday/
LOCATION:Redeemed Church of Jesus Christ\, 132 Crary Ave\, Mt. Vernon\, NY\, 10550\, United States
END:VEVENT
BEGIN:VEVENT
DTSTART;TZID=UTC:20230830T190000
DTEND;TZID=UTC:20230830T200000
DTSTAMP:20260423T161430
CREATED:20230830T235128Z
LAST-MODIFIED:20230830T235128Z
UID:371-1693422000-1693425600@theredeemedchurch.org
SUMMARY:Wednesday Night Bible Class (Virtual)
DESCRIPTION:
URL:https://theredeemedchurch.org/event/wednesday-night-bible-class-virtual-3/
END:VEVENT
END:VCALENDAR